BEGIN:VCALENDAR
VERSION:2.0
PRODID:-//hacksw/handcal//NONSGML v1.0//EN
CALSCALE:GREGORIAN
BEGIN:VEVENT
LOCATION:Atlantic Village\, Hallandale Beach
DESCRIPTION:https://miamionthecheap.com/event/farmers-markets-green-markets-broward-44/
DTSTART;TZID=America/New_York:20260425T120000
DTEND;TZID=America/New_York:20260425T180000
SUMMARY:Vendor market in Hallandale Beach
URL;VALUE=URI:https://miamionthecheap.com/event/farmers-markets-green-markets-broward-44/
DTSTAMP:20260422T163021
UID:69e92fdd336fc
END:VEVENT
END:VCALENDAR