BEGIN:VCALENDAR
VERSION:2.0
PRODID:-//hacksw/handcal//NONSGML v1.0//EN
CALSCALE:GREGORIAN
BEGIN:VEVENT
LOCATION:Blessed Sacrament Catholic Church
DESCRIPTION:https://miamionthecheap.com/event/nova-singers-concert-deal-8/
DTSTART;TZID=America/New_York:20260515T200000
DTEND;TZID=America/New_York:20260515T213000
SUMMARY:Nova Singers concert: Golden Oldies
URL;VALUE=URI:https://miamionthecheap.com/event/nova-singers-concert-deal-8/
DTSTAMP:20260422T125216
UID:69e8fcc081765
END:VEVENT
END:VCALENDAR