BEGIN:VCALENDAR
VERSION:2.0
PRODID:-//hacksw/handcal//NONSGML v1.0//EN
CALSCALE:GREGORIAN
BEGIN:VEVENT
LOCATION:Plantation United Methodist Church\, 1001 NW 70th Ave\,  Plantation\, FL
DESCRIPTION:https://miamionthecheap.com/event/nova-singers-concert-deal-9/
DTSTART;TZID=America/New_York:20260517T160000
DTEND;TZID=America/New_York:20260517T173000
SUMMARY:Nova Singers concert: Golden Oldies
URL;VALUE=URI:https://miamionthecheap.com/event/nova-singers-concert-deal-9/
DTSTAMP:20260422T125426
UID:69e8fd424a577
END:VEVENT
END:VCALENDAR