BEGIN:VCALENDAR
VERSION:2.0
PRODID:-//hacksw/handcal//NONSGML v1.0//EN
CALSCALE:GREGORIAN
BEGIN:VEVENT
LOCATION:St. Paul Lutheran Church Weston\, 580 Indian Trace\, Weston\, FL
DESCRIPTION:https://miamionthecheap.com/event/nova-singers-concert-deal-10/
DTSTART;TZID=America/New_York:20260519T193000
DTEND;TZID=America/New_York:20260519T210000
SUMMARY:Nova Singers concert: Golden Oldies
URL;VALUE=URI:https://miamionthecheap.com/event/nova-singers-concert-deal-10/
DTSTAMP:20260422T125339
UID:69e8fd13a185e
END:VEVENT
END:VCALENDAR